BEGIN:VCALENDAR
VERSION:2.0
PRODID:-//Nová Spirála - ECPv6.10.2//NONSGML v1.0//EN
CALSCALE:GREGORIAN
METHOD:PUBLISH
X-ORIGINAL-URL:https://novaspirala.cz
X-WR-CALDESC:Akce na Nová Spirála
REFRESH-INTERVAL;VALUE=DURATION:PT1H
X-Robots-Tag:noindex
X-PUBLISHED-TTL:PT1H
BEGIN:VTIMEZONE
TZID:Europe/Prague
BEGIN:DAYLIGHT
TZOFFSETFROM:+0100
TZOFFSETTO:+0200
TZNAME:CEST
DTSTART:20250330T010000
END:DAYLIGHT
BEGIN:STANDARD
TZOFFSETFROM:+0200
TZOFFSETTO:+0100
TZNAME:CET
DTSTART:20251026T010000
END:STANDARD
END:VTIMEZONE
BEGIN:VEVENT
DTSTART;VALUE=DATE:20251202
DTEND;VALUE=DATE:20251203
DTSTAMP:20260423T150036
CREATED:20251031T141641Z
LAST-MODIFIED:20251031T141641Z
UID:4023-1764633600-1764719999@novaspirala.cz
SUMMARY:Kompas pro Česko
DESCRIPTION:Konference Kompas pro Česko navazuje na úspěšný Green Deal Summit a přináší jeho pokračování v nových ekonomických a geopolitických souvislostech. Cílem je hledat cestu\, jak může Evropa – a s ní i Česko – skloubit konkurenceschopnost\, ekonomickou bezpečnost a udržitelnost. \nUdálost přináší aktuální pohled na to\, co je potřeba pro dlouhodobě prosperující a odolnou ekonomiku\, jak reagují klíčoví stakeholdeři a jak si Česko stojí v jednotlivých oblastech. \nTémata konference\n\nKonkurenceschopnost\nJak propojit dostupné energetické zdroje s inovacemi\, snížit přeregulování a posílit domácí průmysl.\nKapitál a ekonomická bezpečnost\nJak vytvořit funkční kapitálový trh\, který podpoří inovace a zvýší ekonomickou i strategickou odolnost země.\nSoběstačnost a volný trh\nJak rozvíjet vlastní technologie a průmysl s co nejmenší závislostí na dovozech ze zahraničí\, zejména z Číny.\nObranný průmysl jako nový motor ekonomiky\nZda se mohou firmy obranného průmyslu stát lídry inovací a novými masovými zaměstnavateli.\nPlán B pro evropskou ekonomiku\nThink-tank GARI představí návrh\, jak upravit Green Deal směrem k větší konkurenceschopnosti – realistickou cestu k udržitelnosti.\n\nPROGRAM A ŘEČNÍCI\nZákladní informace: \nDatum: 2. prosince 2025 \nČas: 08:00 – 17:30 \n  \nVstupenky
URL:https://novaspirala.cz/program/kompas-pro-cesko/
CATEGORIES:Event
ATTACH;FMTTYPE=image/png:https://novaspirala.cz/wp-content/uploads/2025/10/kompas_pro_cesko.2e16d0ba.fill-1408x464-1.png
END:VEVENT
END:VCALENDAR