BEGIN:VCALENDAR
VERSION:2.0
PRODID:-//Nová Spirála - ECPv6.10.2//NONSGML v1.0//EN
CALSCALE:GREGORIAN
METHOD:PUBLISH
X-ORIGINAL-URL:https://novaspirala.cz
X-WR-CALDESC:Akce na Nová Spirála
REFRESH-INTERVAL;VALUE=DURATION:PT1H
X-Robots-Tag:noindex
X-PUBLISHED-TTL:PT1H
BEGIN:VTIMEZONE
TZID:Europe/Prague
BEGIN:DAYLIGHT
TZOFFSETFROM:+0100
TZOFFSETTO:+0200
TZNAME:CEST
DTSTART:20250330T010000
END:DAYLIGHT
BEGIN:STANDARD
TZOFFSETFROM:+0200
TZOFFSETTO:+0100
TZNAME:CET
DTSTART:20251026T010000
END:STANDARD
END:VTIMEZONE
BEGIN:VEVENT
DTSTART;VALUE=DATE:20251029
DTEND;VALUE=DATE:20251030
DTSTAMP:20260424T101952
CREATED:20250422T161318Z
LAST-MODIFIED:20250827T101239Z
UID:2797-1761696000-1761782399@novaspirala.cz
SUMMARY:Imodium
DESCRIPTION:Imodium a jejich největší akustický koncert za více než dvacetiletou historii!\n\nV roce 2025 uplyne přesně 10 let od posledního velkého akustického koncertu kapely. Ta v roce 2015 v rámci koncertní série G2 Acoustic Stage televize Óčko odehrála unplugged koncert ve vyprodaném Retro Music Hall a následně vydala live DVD. \nNyní kapela plánuje odehrát bezmála dvouhodinový koncert v nejrozšířenější koncertní sestavě a navíc s exkluzivními hosty. Setlist kapela pojme jako BEST OF průřez celou jejich diskografií\, navíc ve speciálních unplugged aranžích. Celý neopakovatelný večer se navíc odehraje na kultovním místě! Je jím legendární a především unikátní prostor Nová Spirála na pražském Výstavišti\, které se znovuotevřelo po dlouhých dvaceti letech! \nZažijte s námi neopakovatelný a ve všech směrech exkluzivní večer. \nVIP zóna + afterparty\nDržitelé této VIP vstupenky mají během celé akce přístup do VIP prostoru s barem\, welcome drinkem a následný vstup na afterparty. Ta se uskuteční po hlavním koncertu ve VIP zóně Nové Spirály. Afterparty potrvá zhruba do 1. hodiny ranní a v hudebním programu bude DJ VEGY. \nZákladní informace o představení: \nDatum konání: 29. října 2025\nZačátek: 19:00 \nScéna: Velký sál \nKoupit vstupenkySestava\n\nThom Fröde – kytara\, zpěv\nDaniel Franc – kytara\nRonoon Ramones – baskytara\nAdam Jánošík – bicí\nOndřej Potužník – klavír\nHanka Kosnovská – zpěv\nVeronika Hložková – zpěv\nTokhi – perkuse\n\nCorvus Quartet\n\nPetr Vrána\nLibor Ježek\nPetr Klas\nDavid Matoušek
URL:https://novaspirala.cz/program/imodium/
LOCATION:Velký sál
CATEGORIES:Hudba
ATTACH;FMTTYPE=image/jpeg:https://novaspirala.cz/wp-content/uploads/2025/04/462600731_2487611868105067_3018984633647403678_n.jpg
END:VEVENT
END:VCALENDAR