BEGIN:VCALENDAR
VERSION:2.0
PRODID:-//Nová Spirála - ECPv6.10.2//NONSGML v1.0//EN
CALSCALE:GREGORIAN
METHOD:PUBLISH
X-ORIGINAL-URL:https://novaspirala.cz
X-WR-CALDESC:Akce na Nová Spirála
REFRESH-INTERVAL;VALUE=DURATION:PT1H
X-Robots-Tag:noindex
X-PUBLISHED-TTL:PT1H
BEGIN:VTIMEZONE
TZID:Europe/Prague
BEGIN:DAYLIGHT
TZOFFSETFROM:+0100
TZOFFSETTO:+0200
TZNAME:CEST
DTSTART:20250330T010000
END:DAYLIGHT
BEGIN:STANDARD
TZOFFSETFROM:+0200
TZOFFSETTO:+0100
TZNAME:CET
DTSTART:20251026T010000
END:STANDARD
END:VTIMEZONE
BEGIN:VEVENT
DTSTART;VALUE=DATE:20251110
DTEND;VALUE=DATE:20251111
DTSTAMP:20260423T170716
CREATED:20250528T192352Z
LAST-MODIFIED:20250909T083915Z
UID:3147-1762732800-1762819199@novaspirala.cz
SUMMARY:Oneohtrix Point Never
DESCRIPTION:Audiovizuální kouzelník a jedna z největších osobností současné experimentální elektronické scény\nVizionář elektronické hudby! Takového výjimečného označení se dostalo Danielu Lopatinovi aka Oneohtrix Point Never z mnoha stran. Produkoval nahrávky pro Davida Byrnea\, psal pro FKA Twigs nebo Anohni\, složil hudbu k filmům Dobrý časy a Drahokam. Co ho ale odlišuje od všech ostatních\, je jeho sólová tvorba\, která mu vynesla pověst jednoho z největších hudebních průkopníků současnosti. \nHudba vždy nezaměnitelná a originální\, která vstřebává neuvěřitelnou šíři vlivů – od minimalismu přes noise až po koláže. Ve svých skladbách spojuje staré a nové – samply\, syntetizátory i akustické nástroje\, útržky archivních televizních dialogů nebo devadesátkových reklam\, občas si udělá výlet do popu\, altrocku\, minimalismu nebo noiseové hudby. Jeho skladby jsou někdy temné\, ale někdy vás dokáží odzbrojit poklidnou náladou a atmosférou současného popu. \nJeho zatím poslední album z roku 2023 nazvané Again je opět typickým zvukovým amalgámem. Inspiruje se post-rockem\, progresivním rockem a orchestrální hudbou\, míchá elektroniku se smyčci. Výsledek je plný osobitosti\, hravosti a důvtipu\, ale nejde vůbec o chladný kalkul. Naopak – písně překypují nápady\, osobním a citovým zaujetím. Jako by se v nich odrážely Lopatinovy vzpomínky na to\, co slyšel v mládí – ale ve zpětném pohledu člověka středního věku. „Základní impulz k tvorbě u mě často přichází z jistého pocitu zmatku\, který obestírá vzpomínky na hudbu mého mládí\,” říká. „Vždy se k nim vracím jako k nekonečnému\, i když asi falešnému\, zdroji\,” dodává s nadsázkou. \nLopatinovo živé vystoupení vás zavede na audiovizuální dobrodružství\, při kterém videoprojekce a světelný design pomáhají zdůraznit další stránky jeho hudby. Kritici jeho koncerty charakterizovali jako komplexní a dechberoucí zážitky pro smysly. A přesně to slibuje vystoupení Oneohtrix Point Never na festivalu Prague Sounds. \n„Velkolepé a podmanivé elektropopové skladby.” New York Times \n„Jedno z nejdůležitějších jmen současné avantgardní elektronické hudby.” Guardian \nZákladní informace o představení: \nDatum konání: 10. listopadu 2025 \nZačátek: 20:00 \nScéna: Velký sál \nKoupit vstupenky
URL:https://novaspirala.cz/program/oneohtrix-point-never/
LOCATION:Velký sál
CATEGORIES:Hudba
ATTACH;FMTTYPE=image/jpeg:https://novaspirala.cz/wp-content/uploads/2025/05/creditJoePerri_webCover02.jpg
END:VEVENT
END:VCALENDAR