BEGIN:VCALENDAR
VERSION:2.0
PRODID:-//Nová Spirála - ECPv6.10.2//NONSGML v1.0//EN
CALSCALE:GREGORIAN
METHOD:PUBLISH
X-WR-CALNAME:Nová Spirála
X-ORIGINAL-URL:https://novaspirala.cz
X-WR-CALDESC:Akce na Nová Spirála
REFRESH-INTERVAL;VALUE=DURATION:PT1H
X-Robots-Tag:noindex
X-PUBLISHED-TTL:PT1H
BEGIN:VTIMEZONE
TZID:Europe/Prague
BEGIN:DAYLIGHT
TZOFFSETFROM:+0100
TZOFFSETTO:+0200
TZNAME:CEST
DTSTART:20250330T010000
END:DAYLIGHT
BEGIN:STANDARD
TZOFFSETFROM:+0200
TZOFFSETTO:+0100
TZNAME:CET
DTSTART:20251026T010000
END:STANDARD
END:VTIMEZONE
BEGIN:VEVENT
DTSTART;VALUE=DATE:20251113
DTEND;VALUE=DATE:20251114
DTSTAMP:20260423T122700
CREATED:20251003T121129Z
LAST-MODIFIED:20251003T121834Z
UID:3859-1762992000-1763078399@novaspirala.cz
SUMMARY:Future Port Youth
DESCRIPTION:Změny se zrychlují. Každý den přináší nové výzvy – a s nimi i šanci něco posunout\, změnit nebo vytvořit. \nFuture Port Youth v Nové Spirále je unikátní konference pro mladou generaci\, která spojuje ty\, kdo chtějí tvořit budoucnost. Přináší inspiraci od globálních vizionářů\, odvážných inovátorů i mladých tvůrců změn – a dává jim prostor potkat se na jednom místě\, v jednom dni. \nZapomeňte na nekonečné scrollování\, algoritmy a zahlcený obsah. Tady se setkáte tváří v tvář s lidmi\, kteří skutečně hýbou světem. \n\nPřednášky a debaty\n\nNechte se vtáhnout příběhy těch\, kteří posouvají hranice technologií i společnosti. Od světových lídrů a průkopníků až po nové hlasy generace Z. Čekají vás živé debaty\, ve kterých půjde o budoucnost\, na které opravdu záleží. \n\nNetworking a setkání\n\nSeznamte se s řečníky osobně. Najděte nové kontakty\, inspiraci i týmové partnery – třeba právě tady potkáte svého budoucího spoluzakladatele. Každé spojení otevírá nové dveře. \n\nVýstava budoucnosti\n\nObjevte firmy\, start-upy a projekty\, které mění svět. Prozkoumejte nové technologie\, vzdělávací inovace i odvážné nápady. Nasajte atmosféru\, využijte příležitosti a posuňte svou vlastní cestu dál. \n\nHudba a performance\n\nFuture Port Youth není jen o informacích – je to i zážitek. Proto vás čeká hudba a překvapivá vystoupení\, která dodají energii\, osvěží mysl a udrží vás v rytmu celého dne. \nProgram\n\n09:00 Budoucnost společnosti s umělou inteligencí\n10:30 Čas na setkání a objevování\n11:30 Nový vesmírný věk\n13:00 Networking & oběd\n14:30 Budoucnost výroby\n16:00 Závěr\n\nZákladní informace o představení: \nDatum konání: 13. listopadu 2025 \nZačátek: 9:00 \nKonec: 16:00 \nScéna: Velký sál \nKoupit vstupenky
URL:https://novaspirala.cz/program/future-port-youth_25/
LOCATION:Velký sál
CATEGORIES:Hudba
ATTACH;FMTTYPE=image/webp:https://novaspirala.cz/wp-content/uploads/2025/10/Untitled-design7-1.webp
END:VEVENT
END:VCALENDAR