BEGIN:VCALENDAR
VERSION:2.0
PRODID:-//Nová Spirála - ECPv6.10.2//NONSGML v1.0//EN
CALSCALE:GREGORIAN
METHOD:PUBLISH
X-WR-CALNAME:Nová Spirála
X-ORIGINAL-URL:https://novaspirala.cz
X-WR-CALDESC:Akce na Nová Spirála
REFRESH-INTERVAL;VALUE=DURATION:PT1H
X-Robots-Tag:noindex
X-PUBLISHED-TTL:PT1H
BEGIN:VTIMEZONE
TZID:Europe/Prague
BEGIN:DAYLIGHT
TZOFFSETFROM:+0100
TZOFFSETTO:+0200
TZNAME:CEST
DTSTART:20250330T010000
END:DAYLIGHT
BEGIN:STANDARD
TZOFFSETFROM:+0200
TZOFFSETTO:+0100
TZNAME:CET
DTSTART:20251026T010000
END:STANDARD
END:VTIMEZONE
BEGIN:VEVENT
DTSTART;VALUE=DATE:20251123
DTEND;VALUE=DATE:20251124
DTSTAMP:20260422T235534
CREATED:20250909T153056Z
LAST-MODIFIED:20250909T153056Z
UID:3534-1763856000-1763942399@novaspirala.cz
SUMMARY:Štěpán Kozub Special
DESCRIPTION:Herec\, komik\, režisér a fenomén české scény přichází s unikátním stand-upem\, který jste ještě neviděli. Štěpán Kozub vás vezme na nečekanou jízdu plnou absurdních historek\, trefných postřehů a divokých přeměn\, které se vymykají běžnému žánru. Připravte se na večer\, kdy se budete smát\, kroutit hlavou – a možná i trošku dojímat. Štěpán na svém pódiu přivítá také neotřelé hosty.\nTakže se máte na co těšit! \nZákladní informace o představení: \nDatum konání: 23. listopadu 2025\nOpen door: 18:30 \nZačátek: 19:30 \nDélka koncertu: 100 minut \nScéna: Velký sál \nDoporučený věk: od 15 let \nKoupit vstupenky
URL:https://novaspirala.cz/program/stepan-kozub-special/
LOCATION:Velký sál
CATEGORIES:Hudba
ATTACH;FMTTYPE=image/jpeg:https://novaspirala.cz/wp-content/uploads/2025/09/kozub-stepan1.jpg
END:VEVENT
END:VCALENDAR