BEGIN:VCALENDAR
VERSION:2.0
PRODID:-//Nová Spirála - ECPv6.10.2//NONSGML v1.0//EN
CALSCALE:GREGORIAN
METHOD:PUBLISH
X-WR-CALNAME:Nová Spirála
X-ORIGINAL-URL:https://novaspirala.cz
X-WR-CALDESC:Akce na Nová Spirála
REFRESH-INTERVAL;VALUE=DURATION:PT1H
X-Robots-Tag:noindex
X-PUBLISHED-TTL:PT1H
BEGIN:VTIMEZONE
TZID:Europe/Prague
BEGIN:DAYLIGHT
TZOFFSETFROM:+0100
TZOFFSETTO:+0200
TZNAME:CEST
DTSTART:20250330T010000
END:DAYLIGHT
BEGIN:STANDARD
TZOFFSETFROM:+0200
TZOFFSETTO:+0100
TZNAME:CET
DTSTART:20251026T010000
END:STANDARD
END:VTIMEZONE
BEGIN:VEVENT
DTSTART;VALUE=DATE:20251125
DTEND;VALUE=DATE:20251126
DTSTAMP:20260422T200132
CREATED:20250709T130953Z
LAST-MODIFIED:20250827T100632Z
UID:3334-1764028800-1764115199@novaspirala.cz
SUMMARY:Cory Henry - The Solo Experience
DESCRIPTION:Cory Henry\, pětinásobný držitel ceny GRAMMY vystoupí poprvé v Praze. V unikátním prostoru Nová Spirála vystoupí s exkluzivním programem The Solo Experience.\n\nAmerický multiinstrumentalista\, zpěvák\, skladatel a producent Cory Henry pochází z Brooklynu v New Yorku. Na varhany Hammond B3 začal hrát už ve dvou letech a své první veřejné vystoupení absolvoval v šesti letech na legendární scéně Apollo Theater. Hudebně vyrůstal v kostele\, kde si vytvořil svůj jedinečný styl kombinující jazz\, gospel\, soul\, R&B a funk. \nHenry se proslavil jako člen skupiny Snarky Puppy\, se kterou získal tři ze svých pěti cen GRAMMY. V roce 2018 zahájil sólovou kariéru s albem Art of Love a kapelou The Funk Apostles. Jeho další projekty – Something to Say (2020)\, Best of Me (2021)\, Operation Funk (2022) a Live at the Piano (2023) – si získaly uznání kritiků i fanoušků po celém světě. \nV roce 2025 získal GRAMMY za nejlepší gospelové album za nahrávku Church\, která je poctou jeho hudebním kořenům a obsahuje i příspěvky členů jeho rodiny. Album se také stalo ústředním tématem dokumentu PBS\, který přibližuje jeho tvůrčí proces.\nCory Henry spolupracoval s mnoha slavnými umělci\, jako jsou Kanye West (Donda)\, Rosalía (Motomami)\, Imagine Dragons\, Stevie Wonder\, Bruce Springsteen a další. Díky své všestrannosti a talentu je dnes považován za jednoho z nejvlivnějších hudebníků současnosti.\nBěhem koncertu v Praze zazní skladby z jeho nejnovějších projektů\, včetně singlu Let’s Go Fall in Love a materiál z turné Sing Your Song! As We Fix Our Nation’s Broken Heart. \nTento nezapomenutelný hudební večer se odehraje v Nové Spirále – v moderním prostoru s otočným pódiem\, který nabízí naprosto výjimečný zážitek – dokonalé ponoření do zvuku a ideální výhled z každého místa. \nNenechte si ujít tuto výjimečnou hudební událost! Zažijte magii hudby Coryho Henryho naživo – poprvé v Praze! \nZákladní informace o představení: \nDatum konání: 25. listopadu 2025\nOpen door: 19:00 \nZačátek: 20:00 \nDélka koncertu: 100 minut \nScéna: Velký sál \nDoporučený věk: bez omezení \nKoupit vstupenky
URL:https://novaspirala.cz/program/cory-henry-the-solo-experience/
LOCATION:Velký sál
CATEGORIES:Hudba
ATTACH;FMTTYPE=image/png:https://novaspirala.cz/wp-content/uploads/2025/07/CH_2100_960_p2-1.png
END:VEVENT
END:VCALENDAR